BEGIN:VCALENDAR
VERSION:2.0
PRODID:-//Transformation Church Seminole - ECPv6.15.20//NONSGML v1.0//EN
CALSCALE:GREGORIAN
METHOD:PUBLISH
X-ORIGINAL-URL:https://thetc.com
X-WR-CALDESC:Events for Transformation Church Seminole
REFRESH-INTERVAL;VALUE=DURATION:PT1H
X-Robots-Tag:noindex
X-PUBLISHED-TTL:PT1H
BEGIN:VTIMEZONE
TZID:America/Chicago
BEGIN:DAYLIGHT
TZOFFSETFROM:-0600
TZOFFSETTO:-0500
TZNAME:CDT
DTSTART:20240310T080000
END:DAYLIGHT
BEGIN:STANDARD
TZOFFSETFROM:-0500
TZOFFSETTO:-0600
TZNAME:CST
DTSTART:20241103T070000
END:STANDARD
BEGIN:DAYLIGHT
TZOFFSETFROM:-0600
TZOFFSETTO:-0500
TZNAME:CDT
DTSTART:20250309T080000
END:DAYLIGHT
BEGIN:STANDARD
TZOFFSETFROM:-0500
TZOFFSETTO:-0600
TZNAME:CST
DTSTART:20251102T070000
END:STANDARD
BEGIN:DAYLIGHT
TZOFFSETFROM:-0600
TZOFFSETTO:-0500
TZNAME:CDT
DTSTART:20260308T080000
END:DAYLIGHT
BEGIN:STANDARD
TZOFFSETFROM:-0500
TZOFFSETTO:-0600
TZNAME:CST
DTSTART:20261101T070000
END:STANDARD
BEGIN:DAYLIGHT
TZOFFSETFROM:-0600
TZOFFSETTO:-0500
TZNAME:CDT
DTSTART:20270314T080000
END:DAYLIGHT
BEGIN:STANDARD
TZOFFSETFROM:-0500
TZOFFSETTO:-0600
TZNAME:CST
DTSTART:20271107T070000
END:STANDARD
END:VTIMEZONE
BEGIN:VEVENT
DTSTART;TZID=America/Chicago:20260423T173000
DTEND;TZID=America/Chicago:20260423T203000
DTSTAMP:20260423T223827
CREATED:20260412T134650Z
LAST-MODIFIED:20260412T134650Z
UID:10001690-1776965400-1776976200@thetc.com
SUMMARY:Men's Golf Scramble
DESCRIPTION:Men\, it’s time to get out on the course! Join us for a relaxed and fun Golf Scramble — no pressure\, just great fellowship and a good time. \n📅 Thursday\, April 23rd🕕 Meet at the clubhouse by 6:00 PM💵 Pay when you arrive🏌️ Club & cart rentals available \nWhether you play all the time or haven’t swung a club in years\, you’re invited!
URL:https://thetc.com/event/mens-golf-scramble/
LOCATION:Transformation Church\, 124 CR 320\, Seminole\, TX\, 79360\, United States
ATTACH;FMTTYPE=image/png:https://thetc.com/wp-content/uploads/2026/04/Golf-Scramble.png
ORGANIZER;CN="Transformation Church":MAILTO:info@thetc.com
END:VEVENT
BEGIN:VEVENT
DTSTART;TZID=America/Chicago:20260411T170000
DTEND;TZID=America/Chicago:20260411T200000
DTSTAMP:20260423T223827
CREATED:20260305T203437Z
LAST-MODIFIED:20260305T203437Z
UID:10001687-1775926800-1775937600@thetc.com
SUMMARY:XO Date Night
DESCRIPTION:Join us for XO Date Night\, a special evening designed for married and engaged couples who want to grow stronger together. \nSaturday\, April 11\n⏰ 5:00 PM – 8:00 PM \nWe believe healthy marriages don’t just happen — they are built intentionally. This night is all about investing in your relationship and connecting with other couples who share the same desire to grow. \nDuring the evening you’ll experience: \n\nEncouraging sessions from the XO Marriage Conference\nA live panel conversation with Pastors Tod & Daphne Delay and special guests\nA delicious catered dinner included with your registration\n\nMake it a meaningful night out\, strengthen your marriage\, and leave encouraged and equipped. \nChildcare:\nChildcare is available as an add-on for $15 per child for the entire evening. \nREGISTER HERE
URL:https://thetc.com/event/xo-date-night/
LOCATION:Transformation Church\, 124 CR 320\, Seminole\, TX\, 79360\, United States
ATTACH;FMTTYPE=image/jpeg:https://thetc.com/wp-content/uploads/2026/03/XO-Date-Night.jpg
ORGANIZER;CN="Transformation Church":MAILTO:info@thetc.com
END:VEVENT
BEGIN:VEVENT
DTSTART;TZID=America/Chicago:20260405T103000
DTEND;TZID=America/Chicago:20260405T120000
DTSTAMP:20260423T223827
CREATED:20260304T192600Z
LAST-MODIFIED:20260304T192600Z
UID:10001686-1775385000-1775390400@thetc.com
SUMMARY:Easter Sunday
DESCRIPTION:Join us this Easter at Transformation Church \nEaster is the celebration of hope and we’d love for you to be part of it at Transformation Church! Come experience a powerful\, uplifting service as we celebrate the resurrection of Jesus Christ. The victory that changed everything. Bring the whole family\, invite a friend\, and come ready for a morning filled with faith\, encouragement\, and the joy of new life in Christ! \nAnd don’t worry about the kids\, Transform Kids Ministry will be ready for them with a fun\, safe\, and engaging environment designed just for children\, where they’ll learn about Jesus in a way they can understand and enjoy! \nNo matter where you’ve been or what your background is\, there’s a place for you here. We can’t wait to celebrate Easter with you!
URL:https://thetc.com/event/easter-sunday/
LOCATION:Transformation Church\, 124 CR 320\, Seminole\, TX\, 79360\, United States
ATTACH;FMTTYPE=image/jpeg:https://thetc.com/wp-content/uploads/2026/03/Easter-Main-Graphic.jpg
ORGANIZER;CN="Transformation Church":MAILTO:info@thetc.com
END:VEVENT
BEGIN:VEVENT
DTSTART;TZID=America/Chicago:20260330T183000
DTEND;TZID=America/Chicago:20260330T203000
DTSTAMP:20260423T223827
CREATED:20260305T213935Z
LAST-MODIFIED:20260305T213935Z
UID:10001688-1774895400-1774902600@thetc.com
SUMMARY:Thrive Hangout
DESCRIPTION:LADIES PAJAMAS & PICTIONARY PARTY \n📅 Monday\, March 30⏰ 6:30–8:30 PM📍 TK Building \nGrab your coziest pajamas and join us for a night of Pajamas & Pictionary! We’ll have plenty of laughs\, friendly competition\, and time to hang out together. \nEveryone is invited to bring a breakfast-inspired snack to share\, so come ready to enjoy some tasty treats while we play!
URL:https://thetc.com/event/thrive-hangout/
LOCATION:Transformation Church\, 124 CR 320\, Seminole\, TX\, 79360\, United States
ATTACH;FMTTYPE=image/png:https://thetc.com/wp-content/uploads/2026/03/Thrive-hangout.png
ORGANIZER;CN="Transformation Church":MAILTO:info@thetc.com
END:VEVENT
BEGIN:VEVENT
DTSTART;TZID=America/Chicago:20260329T103000
DTEND;TZID=America/Chicago:20260329T120000
DTSTAMP:20260423T223827
CREATED:20241216T213803Z
LAST-MODIFIED:20260304T192927Z
UID:10001076-1774780200-1774785600@thetc.com
SUMMARY:Honor His House Service
DESCRIPTION:Upcoming Honor His House Service: March 29th\, 2026 \nThe Honor His House campaign is a special initiative designed to help fulfill the vision of Transformation Church: to transform lives and change the world. \nIt’s an opportunity for members and supporters to go beyond their regular giving and contribute toward an “over-and-above” gift every three months.\n\n\n\n\n\n\n\n\n\n\n\nThe goal is to reduce and eventually eliminate the $2.4 million debt for both Transformation Church and the Kingdom Kids Child Development Center. By freeing up these financial resources\, the church will be able to operate more efficiently\, invest in its ministries\, and serve its community more effectively. Through collective generosity\, the campaign aims to propel the church closer to its mission while building a lasting legacy for future generations. \nMORE INFORMATION
URL:https://thetc.com/event/honor-his-house-service/
LOCATION:Transformation Church\, 124 CR 320\, Seminole\, TX\, 79360\, United States
ATTACH;FMTTYPE=image/png:https://thetc.com/wp-content/uploads/2024/12/hhh-service-1-png.webp
ORGANIZER;CN="Transformation Church":MAILTO:info@thetc.com
END:VEVENT
BEGIN:VEVENT
DTSTART;TZID=America/Chicago:20260122T183000
DTEND;TZID=America/Chicago:20260122T203000
DTSTAMP:20260423T223827
CREATED:20251229T010328Z
LAST-MODIFIED:20251229T010328Z
UID:10001683-1769106600-1769113800@thetc.com
SUMMARY:Thrive Hangout
DESCRIPTION:Join us for our monthly THRIVE HANGOUT! Designed for all women (adults only) to find fellowship and community. \nThis month we are gathering on January 22nd!\n\nYou’re invited to a fun evening of fellowship\, snacks\, and BINGO at Transformation Church TK! \n\nTime: 6:30-8:00 PM\nLocation: Transformation Church — TK Building\n\nPlease bring a snack to share and come enjoy a relaxed night of laughter\, connection\, and friendly bingo fun. Feel free to bring a friend— everyone is welcome! \nWe look forward to spending the evening together! \n\nEach month will be hosted by various members of our Thrive Women’s leadership team\, so expect variety\, but always a fun time centered around the Lord!
URL:https://thetc.com/event/thrive-nights-5/
LOCATION:Transformation Church\, 124 CR 320\, Seminole\, TX\, 79360\, United States
CATEGORIES:women's ministry
ATTACH;FMTTYPE=image/jpeg:https://thetc.com/wp-content/uploads/2025/07/Thrive-Hangout.jpg
ORGANIZER;CN="Transformation Church":MAILTO:info@thetc.com
END:VEVENT
BEGIN:VEVENT
DTSTART;TZID=America/Chicago:20251224T180000
DTEND;TZID=America/Chicago:20251224T190000
DTSTAMP:20260423T223827
CREATED:20251202T215817Z
LAST-MODIFIED:20251202T215817Z
UID:10001681-1766599200-1766602800@thetc.com
SUMMARY:Christmas Eve: Candlelight & Communion
DESCRIPTION:Join us on Christmas Eve at 6:00 PM for a special Candlelight & Communion Service at Transformation Church! \nWe’ll worship together\, hear the story of Jesus’ birth\, receive communion\, and close the night by filling the room with candlelight as we honor our Savior. This family-friendly service is a meaningful way to center your Christmas around the presence of Jesus!
URL:https://thetc.com/event/christmas-eve-candlelight-communion/
LOCATION:Transformation Church\, 124 CR 320\, Seminole\, TX\, 79360\, United States
ATTACH;FMTTYPE=image/jpeg:https://thetc.com/wp-content/uploads/2025/12/Christmas-Eve.jpg
ORGANIZER;CN="Transformation Church":MAILTO:info@thetc.com
END:VEVENT
BEGIN:VEVENT
DTSTART;TZID=America/Chicago:20251221T103000
DTEND;TZID=America/Chicago:20251221T120000
DTSTAMP:20260423T223827
CREATED:20241216T212013Z
LAST-MODIFIED:20251202T215540Z
UID:10001074-1766313000-1766318400@thetc.com
SUMMARY:Christmas Service
DESCRIPTION:Celebrate Christmas with us at our Family Christmas Service on Sunday\, December 21 at 10:30 AM! \nWe’ll gather as one church family to worship\, hear a Christmas message of hope\, and remember the gift of Jesus—God with us. This service is designed for all ages\, so bring your kids\, invite a friend\, and come expectant for a special time in God’s presence.
URL:https://thetc.com/event/christmas-service/
LOCATION:Transformation Church\, 124 CR 320\, Seminole\, TX\, 79360\, United States
ATTACH;FMTTYPE=image/jpeg:https://thetc.com/wp-content/uploads/2024/12/Christmas.jpg
ORGANIZER;CN="Transformation Church":MAILTO:info@thetc.com
END:VEVENT
BEGIN:VEVENT
DTSTART;TZID=America/Chicago:20251213T093000
DTEND;TZID=America/Chicago:20251213T120000
DTSTAMP:20260423T223827
CREATED:20250915T204507Z
LAST-MODIFIED:20251101T144324Z
UID:10001664-1765618200-1765627200@thetc.com
SUMMARY:Women's Christmas Brunch
DESCRIPTION:Enjoy beautifully decorated tables! Great food! Fun Fellowship!\nThis annual event\, hosted by the Women’s Ministry of Transformation Church\, is always a favorite. \nAges 6th Grade and older may attend. All attendees will go home with something special! \nMORE INFO + REGISTRATION!
URL:https://thetc.com/event/womens-christmas-brunch/
LOCATION:Transformation Church\, 124 CR 320\, Seminole\, TX\, 79360\, United States
CATEGORIES:women's ministry
ATTACH;FMTTYPE=image/png:https://thetc.com/wp-content/uploads/2025/09/PC-Sign-up.png
ORGANIZER;CN="Transformation Church":MAILTO:info@thetc.com
END:VEVENT
BEGIN:VEVENT
DTSTART;TZID=America/Chicago:20251116T103000
DTEND;TZID=America/Chicago:20251116T200000
DTSTAMP:20260423T223827
CREATED:20251021T202408Z
LAST-MODIFIED:20251021T202408Z
UID:10001667-1763289000-1763323200@thetc.com
SUMMARY:Rev. Joseph Morris
DESCRIPTION:Join us on Sunday\, November 16th for two powerful services with Reverend Joseph Morris at 10:30 AM and 6:00 PM. \nThe evening service will be a special part of our Bible Basics course\, open and free to the entire church. Reverend Morris will minister on End Time Events\, the Rapture\, and the Tribulation\, bringing insight\, encouragement\, and clarity from God’s Word. \nCome expectant for revelation that will strengthen your faith and stir your hope in Christ’s return!
URL:https://thetc.com/event/rev-joseph-morris/
LOCATION:Transformation Church\, 124 CR 320\, Seminole\, TX\, 79360\, United States
ATTACH;FMTTYPE=image/jpeg:https://thetc.com/wp-content/uploads/2025/10/Joseph-Morris.jpg
ORGANIZER;CN="Transformation Church":MAILTO:info@thetc.com
END:VEVENT
BEGIN:VEVENT
DTSTART;TZID=America/Chicago:20251102T103000
DTEND;TZID=America/Chicago:20251102T200000
DTSTAMP:20260423T223827
CREATED:20251021T202151Z
LAST-MODIFIED:20251021T202151Z
UID:10001666-1762079400-1762113600@thetc.com
SUMMARY:Pastor Bracken Christian
DESCRIPTION:Join us for a powerful Sunday with Pastor Bracken Christian as he ministers in our 10:30 AM and a special 6:00 PM service on November 2nd.The evening service will be a special part of our Bible Basics course\, open to the entire church\, where Pastor Bracken will teach on End Time Events and the book of Revelation! It will be a powerful night that brings clarity\, revelation\, and hope for the days we’re living in. \nDon’t miss this opportunity to grow in understanding and be strengthened in faith!
URL:https://thetc.com/event/pastor-bracken-christian/
LOCATION:Transformation Church\, 124 CR 320\, Seminole\, TX\, 79360\, United States
ATTACH;FMTTYPE=image/jpeg:https://thetc.com/wp-content/uploads/2025/10/Pastor-Bracken.jpg
ORGANIZER;CN="Transformation Church":MAILTO:info@thetc.com
END:VEVENT
BEGIN:VEVENT
DTSTART;TZID=America/Chicago:20251026T103000
DTEND;TZID=America/Chicago:20251026T120000
DTSTAMP:20260423T223827
CREATED:20250205T164403Z
LAST-MODIFIED:20251008T164821Z
UID:10001215-1761474600-1761480000@thetc.com
SUMMARY:Child Dedications
DESCRIPTION:This special time is open to all parents interested in making a public dedication of their child to God. Children of any age are welcome to participate. \nPastor Tod will encourage the parents and pray over each child\, and our TC family will join in that prayer. \nProverbs 22:6\n“Train up a child in the way he should go: and when he is old\, he will not depart from it.” \n  \nREGISTER YOUR CHILD HERE
URL:https://thetc.com/event/baby-dedications/
LOCATION:Transformation Church\, 124 CR 320\, Seminole\, TX\, 79360\, United States
ATTACH;FMTTYPE=image/jpeg:https://thetc.com/wp-content/uploads/2025/02/Child-Dedications.jpg
ORGANIZER;CN="Transformation Church":MAILTO:info@thetc.com
END:VEVENT
BEGIN:VEVENT
DTSTART;TZID=America/Chicago:20250907T180000
DTEND;TZID=America/Chicago:20250907T200000
DTSTAMP:20260423T223827
CREATED:20240418T150619Z
LAST-MODIFIED:20250812T185911Z
UID:10000819-1757268000-1757275200@thetc.com
SUMMARY:Bible Basics
DESCRIPTION:This is a 3 month condensed bible instruction that will establish\, equip\, and expand you into more revelation of God’s Word. This is not another church service but instead a deep and accelerated course designed to deepen your roots into the truth of God’s Word. \nEach month will contain four courses divided up into four weeks. Every week will consist of two class hours that will cover that weeks course. The class will be spilt into two 55 minute segments with a 10 minute break. \n\nWhen: Every Sunday Night from 6-8pm (September 7th – November 23rd)\nWhere: TC Student Center \nWho: Anyone in high school or above\nCost: $75 (This one time fee will pay for all of the handouts and notes you will receive. As well as snacks and drinks that will be available to you at Bible Basics)\nChildcare Registration HERE\n\nFor complete information visit our website here.
URL:https://thetc.com/event/bible-basics/
LOCATION:Transformation Church\, 124 CR 320\, Seminole\, TX\, 79360\, United States
ATTACH;FMTTYPE=image/jpeg:https://thetc.com/wp-content/uploads/2024/04/Bible-Basics-Cover-2.jpg
ORGANIZER;CN="Transformation Church":MAILTO:info@thetc.com
END:VEVENT
BEGIN:VEVENT
DTSTART;TZID=America/Chicago:20250823T173000
DTEND;TZID=America/Chicago:20250823T200000
DTSTAMP:20260423T223827
CREATED:20250812T183035Z
LAST-MODIFIED:20250812T185124Z
UID:10001662-1755970200-1755979200@thetc.com
SUMMARY:Movie Night: "The King Of Kings"
DESCRIPTION:🎬 Free Community Movie Night!Join us for a screening of King of Kings in the TC Kids building on August 23rd at 6:00 PM. Doors open at 5:30 PM. Enjoy concessions and a great time with family! Parents must attend with their children — no unattended kids\, please. We’ll provide chairs\, but feel free to bring blankets or beanbags for extra comfort!Bring your loved ones for a fun\, safe\, and memorable movie night!
URL:https://thetc.com/event/movie-night-the-king-of-kings/
LOCATION:Transformation Church\, 124 CR 320\, Seminole\, TX\, 79360\, United States
ATTACH;FMTTYPE=image/jpeg:https://thetc.com/wp-content/uploads/2025/08/TK-Movie-Night.jpg
ORGANIZER;CN="Transformation Church":MAILTO:info@thetc.com
END:VEVENT
BEGIN:VEVENT
DTSTART;TZID=America/Chicago:20250817T190000
DTEND;TZID=America/Chicago:20250817T210000
DTSTAMP:20260423T223827
CREATED:20250807T195653Z
LAST-MODIFIED:20250807T195653Z
UID:10001661-1755457200-1755464400@thetc.com
SUMMARY:Impartation Nights
DESCRIPTION:Impartation Nights ❤️‍🔥 \nGet in the room—because God is moving! ❤️‍🔥 These powerful nights are set apart for release\, vision\, and activation. Each service is an opportunity to receive fresh anointing\, encouragement\, and direction from the Holy Spirit. \nWe’ll worship together\, dive into the Word\, and hear from dynamic guest ministers who carry a timely message for our church. Come expectant for God to pour out His Spirit in a way that transforms your life and equips you for what’s ahead. \n📅 August 10th & 17th🕖 7:00 PM📍 124 CR 320\, Seminole TX
URL:https://thetc.com/event/impartation-nights/2025-08-17/
LOCATION:Transformation Church\, 124 CR 320\, Seminole\, TX\, 79360\, United States
ATTACH;FMTTYPE=image/jpeg:https://thetc.com/wp-content/uploads/2025/08/Impartation-Nights.jpg
ORGANIZER;CN="Transformation Church":MAILTO:info@thetc.com
END:VEVENT
BEGIN:VEVENT
DTSTART;VALUE=DATE:20250801
DTEND;VALUE=DATE:20250901
DTSTAMP:20260423T223827
CREATED:20250731T205920Z
LAST-MODIFIED:20250731T205920Z
UID:10001659-1754006400-1756684799@thetc.com
SUMMARY:Missions Month
DESCRIPTION:Missions Month is here — and we’re all in! 🌍Throughout August\, we’re celebrating the mission of God across the street and around the world. Join us every week for powerful services\, inspiring stories\, and hands-on opportunities to give\, pray\, and serve. \nHere’s what to expect: \n\n\nGuest speakers and missionary updates ✈️ \n\n\nSpecial giving opportunities 💛 \n\n\nLocal outreach events + serve days 🛠 \n\n\nHighlights from our global missions partners 🌐 \n\n\nTestimonies\, worship\, and more! \n\n\nWhether you go\, give\, or pray — you have a part to play.Let’s Transform Lives & Change the World\, together.
URL:https://thetc.com/event/missions-month/
LOCATION:Transformation Church\, 124 CR 320\, Seminole\, TX\, 79360\, United States
ATTACH;FMTTYPE=image/jpeg:https://thetc.com/wp-content/uploads/2025/07/Mission-Month-Web-scaled.jpg
ORGANIZER;CN="Transformation Church":MAILTO:info@thetc.com
END:VEVENT
BEGIN:VEVENT
DTSTART;TZID=America/Chicago:20250713T180000
DTEND;TZID=America/Chicago:20250713T210000
DTSTAMP:20260423T223827
CREATED:20240402T201045Z
LAST-MODIFIED:20250619T164040Z
UID:10000815-1752429600-1752440400@thetc.com
SUMMARY:I Am Night
DESCRIPTION:LADIES! Please make plans to join us for I AM NIGHT 2025! \nREGISTRATION: only $10 per person (light meal included)\n*deadline to register/pay: July 6th \nREGISTER HERE \nI AM NIGHT 2025 | 6pm-10pm \nSpecial guests: Tya Delay\, Gabi Delay\, & Emily Premenko \nYou know them from our conference– and we always wish we had more time with them. Now we do! This special night will be a beautiful evening of revelation and impartation. \nYou don’t want to miss! \n\nCome early to enjoy fellowship and a specially curated grazing table! Catering by Rita Klassen: An Epicure’s Table\n\nDoors open at 6:00pm (meal and fellowship) \nService starts at 7:00pm (worship and ministry time) \nLadies only please (nursing babies are welcome) \nRegistration deadline: 7/6//25 \nREGISTER HERE
URL:https://thetc.com/event/i-am-night-2/
LOCATION:Transformation Church\, 124 CR 320\, Seminole\, TX\, 79360\, United States
ATTACH;FMTTYPE=image/jpeg:https://thetc.com/wp-content/uploads/2024/04/I-Am-Night.jpg
ORGANIZER;CN="Transformation Church":MAILTO:info@thetc.com
END:VEVENT
BEGIN:VEVENT
DTSTART;TZID=America/Chicago:20250616T120000
DTEND;TZID=America/Chicago:20250616T130000
DTSTAMP:20260423T223827
CREATED:20250205T170902Z
LAST-MODIFIED:20250205T170902Z
UID:10001235-1750075200-1750078800@thetc.com
SUMMARY:Noon Prayer
DESCRIPTION:Join our staff every Monday from 12pm-1pm as we pray together.\nLocated in the Main Sanctuary and also Live streamed on our Youtube Channel.
URL:https://thetc.com/event/noon-prayer/2025-06-16/
LOCATION:Transformation Church\, 124 CR 320\, Seminole\, TX\, 79360\, United States
ATTACH;FMTTYPE=image/png:https://thetc.com/wp-content/uploads/2025/02/noon-prayer-png.webp
ORGANIZER;CN="Transformation Church":MAILTO:info@thetc.com
END:VEVENT
BEGIN:VEVENT
DTSTART;TZID=America/Chicago:20250601T103000
DTEND;TZID=America/Chicago:20250601T120000
DTSTAMP:20260423T223827
CREATED:20250507T183023Z
LAST-MODIFIED:20250507T183023Z
UID:10001506-1748773800-1748779200@thetc.com
SUMMARY:Water Baptisms
DESCRIPTION:Text BAPTISM to 432-239-1312 to sign up! \nWater Baptism is a special time to make a declaration of faith. Baptisms will take place at the end of the service in our main auditorium. \nThose signed up will attend a water baptism class during the main service and receive a Baptism Certificate. \n*Parents\, we recommend 4th Grade or older but trust your discernment in signing up your child. \nMore information about what to bring and the order of service will be sent to you by text a few days before the baptism (and after you have completed the form on your registration). \nTo register text BAPTISM to 432-239-1312.
URL:https://thetc.com/event/water-baptisms-2/
LOCATION:Transformation Church\, 124 CR 320\, Seminole\, TX\, 79360\, United States
ATTACH;FMTTYPE=image/png:https://thetc.com/wp-content/uploads/2023/12/water-baptisms.png
ORGANIZER;CN="Transformation Church":MAILTO:info@thetc.com
END:VEVENT
BEGIN:VEVENT
DTSTART;TZID=America/Chicago:20250518T103000
DTEND;TZID=America/Chicago:20250518T123000
DTSTAMP:20260423T223827
CREATED:20250416T182515Z
LAST-MODIFIED:20250422T160205Z
UID:10001497-1747564200-1747571400@thetc.com
SUMMARY:Expand Graduation Service
DESCRIPTION:Join us for our Expand Graduation Service\, as we celebrate our graduates! We will have punch and cookies and photobooth after service. \nRegister Here
URL:https://thetc.com/event/expand-graduation-service/
LOCATION:Transformation Church\, 124 CR 320\, Seminole\, TX\, 79360\, United States
ATTACH;FMTTYPE=image/jpeg:https://thetc.com/wp-content/uploads/2025/04/grad-service-25.jpg
ORGANIZER;CN="Transformation Church":MAILTO:info@thetc.com
END:VEVENT
BEGIN:VEVENT
DTSTART;TZID=America/Chicago:20250511T103000
DTEND;TZID=America/Chicago:20250511T123000
DTSTAMP:20260423T223827
CREATED:20250416T183520Z
LAST-MODIFIED:20250416T183520Z
UID:10001498-1746959400-1746966600@thetc.com
SUMMARY:Mother's Day Service
DESCRIPTION:Join us as we celebrate all our mother’s on ‘Mother’s Day’!\nWe will have a special gift for the moms after service\, as well as a powerful message by Pastor Daphne!
URL:https://thetc.com/event/mothers-day-service/
LOCATION:Transformation Church\, 124 CR 320\, Seminole\, TX\, 79360\, United States
ATTACH;FMTTYPE=image/png:https://thetc.com/wp-content/uploads/2025/04/mothers-day.png
ORGANIZER;CN="Transformation Church":MAILTO:info@thetc.com
END:VEVENT
BEGIN:VEVENT
DTSTART;TZID=America/Chicago:20250504T103000
DTEND;TZID=America/Chicago:20250504T123000
DTSTAMP:20260423T223827
CREATED:20250416T184550Z
LAST-MODIFIED:20250416T184550Z
UID:10001499-1746354600-1746361800@thetc.com
SUMMARY:Church Anniversary Service
DESCRIPTION:Join us as we celebrate 27 years of Transformation Church! We will look back and look forward to what is ahead!
URL:https://thetc.com/event/church-anniversary-service/
LOCATION:Transformation Church\, 124 CR 320\, Seminole\, TX\, 79360\, United States
ATTACH;FMTTYPE=image/png:https://thetc.com/wp-content/uploads/2025/04/anniv-service.png
ORGANIZER;CN="Transformation Church":MAILTO:info@thetc.com
END:VEVENT
END:VCALENDAR