BEGIN:VCALENDAR
VERSION:2.0
PRODID:-//Transformation Church Seminole - ECPv6.15.20//NONSGML v1.0//EN
CALSCALE:GREGORIAN
METHOD:PUBLISH
X-ORIGINAL-URL:https://thetc.com
X-WR-CALDESC:Events for Transformation Church Seminole
REFRESH-INTERVAL;VALUE=DURATION:PT1H
X-Robots-Tag:noindex
X-PUBLISHED-TTL:PT1H
BEGIN:VTIMEZONE
TZID:America/Chicago
BEGIN:DAYLIGHT
TZOFFSETFROM:-0600
TZOFFSETTO:-0500
TZNAME:CDT
DTSTART:20250309T080000
END:DAYLIGHT
BEGIN:STANDARD
TZOFFSETFROM:-0500
TZOFFSETTO:-0600
TZNAME:CST
DTSTART:20251102T070000
END:STANDARD
BEGIN:DAYLIGHT
TZOFFSETFROM:-0600
TZOFFSETTO:-0500
TZNAME:CDT
DTSTART:20260308T080000
END:DAYLIGHT
BEGIN:STANDARD
TZOFFSETFROM:-0500
TZOFFSETTO:-0600
TZNAME:CST
DTSTART:20261101T070000
END:STANDARD
BEGIN:DAYLIGHT
TZOFFSETFROM:-0600
TZOFFSETTO:-0500
TZNAME:CDT
DTSTART:20270314T080000
END:DAYLIGHT
BEGIN:STANDARD
TZOFFSETFROM:-0500
TZOFFSETTO:-0600
TZNAME:CST
DTSTART:20271107T070000
END:STANDARD
END:VTIMEZONE
BEGIN:VEVENT
DTSTART;TZID=America/Chicago:20260111T180000
DTEND;TZID=America/Chicago:20260111T200000
DTSTAMP:20260423T173119
CREATED:20241216T214502Z
LAST-MODIFIED:20251207T151241Z
UID:10001077-1768154400-1768161600@thetc.com
SUMMARY:FPU: Financial Peace University
DESCRIPTION:Sign up here \nIf you’ve ever felt like you just can’t get in control of your money\, you’re not alone. You’d be surprised how many people you know are struggling just like you. But it’s time for your struggle to end—starting today. Join our in-person Financial Peace University class starting on January 12th and learn how you can pay off debt\, save more money\, and build wealth. \nDates: January 11th – March 8th (every Sunday evening)\nTimes: 6-8pm\nLocation: TC Student Center \nWhat does my registration cost include? It includes all 9 classes from Ramsey Solutions\, a workbook to follow along with and 1 year of the premium ‘every dollar’ budgeting app! \nChildcare: It is our goal to have childcare at our Kingdom Kids facility next door to the student center. It would be $10 per child per week and the ages accepted would be 1 year-5th grade.
URL:https://thetc.com/event/fpu-financial-peace-university/
LOCATION:TC Student Center\, 300 NW 3rd Street\, Seminole\, 79360
ATTACH;FMTTYPE=image/png:https://thetc.com/wp-content/uploads/2024/12/FPU-slide.png
ORGANIZER;CN="Transformation Church":MAILTO:info@thetc.com
END:VEVENT
BEGIN:VEVENT
DTSTART;TZID=America/Chicago:20260122T183000
DTEND;TZID=America/Chicago:20260122T203000
DTSTAMP:20260423T173119
CREATED:20251229T010328Z
LAST-MODIFIED:20251229T010328Z
UID:10001683-1769106600-1769113800@thetc.com
SUMMARY:Thrive Hangout
DESCRIPTION:Join us for our monthly THRIVE HANGOUT! Designed for all women (adults only) to find fellowship and community. \nThis month we are gathering on January 22nd!\n\nYou’re invited to a fun evening of fellowship\, snacks\, and BINGO at Transformation Church TK! \n\nTime: 6:30-8:00 PM\nLocation: Transformation Church — TK Building\n\nPlease bring a snack to share and come enjoy a relaxed night of laughter\, connection\, and friendly bingo fun. Feel free to bring a friend— everyone is welcome! \nWe look forward to spending the evening together! \n\nEach month will be hosted by various members of our Thrive Women’s leadership team\, so expect variety\, but always a fun time centered around the Lord!
URL:https://thetc.com/event/thrive-nights-5/
LOCATION:Transformation Church\, 124 CR 320\, Seminole\, TX\, 79360\, United States
CATEGORIES:women's ministry
ATTACH;FMTTYPE=image/jpeg:https://thetc.com/wp-content/uploads/2025/07/Thrive-Hangout.jpg
ORGANIZER;CN="Transformation Church":MAILTO:info@thetc.com
END:VEVENT
BEGIN:VEVENT
DTSTART;TZID=America/Chicago:20260130T190000
DTEND;TZID=America/Chicago:20260130T203000
DTSTAMP:20260423T173119
CREATED:20260108T194223Z
LAST-MODIFIED:20260108T194223Z
UID:10001684-1769799600-1769805000@thetc.com
SUMMARY:Men's Tournament Night
DESCRIPTION:Men’s Tournament Night is going to be a night of competition\, connection\, and community! 💪Join us at the TC Student Center starting at 7:00 PM for a night packed with friendly tournaments like volleyball\, basketball\, ping pong\, and cornhole. \nWhether you’re competitive or just coming to hang out\, this night is for you. We’ll have free food and plenty of opportunities to connect with other men. \n📍 TC Student Center🕖 Starts at 7:00 PM
URL:https://thetc.com/event/mens-tournament-night/
LOCATION:TC Student Center\, 300 NW 3rd Street\, Seminole\, 79360
ATTACH;FMTTYPE=image/png:https://thetc.com/wp-content/uploads/2026/01/Tournament-Night.png
ORGANIZER;CN="Transformation Church":MAILTO:info@thetc.com
END:VEVENT
BEGIN:VEVENT
DTSTART;TZID=America/Chicago:20260131T083000
DTEND;TZID=America/Chicago:20260131T133000
DTSTAMP:20260423T173119
CREATED:20250716T191856Z
LAST-MODIFIED:20260105T205409Z
UID:10001654-1769848200-1769866200@thetc.com
SUMMARY:Next Steps Class + Luncheon
DESCRIPTION:Growing spiritually should always be our next step! We invite you to join this one-day class to learn the beliefs (as well as the history) of Transformation Church. \nAfter completion of the Next Steps class\, you will be given an opportunity to become a member of TC. We don’t believe membership should be based on the number of names on a list\, but on our unified belief in God’s Word. \nLUNCH and CHILDCARE will be provided. Please sign up so we will have an accurate count for both. \nLast day to sign up: Wednesday\, January 28th \nPlease note: If there are less than 10 signups\, we will choose a better date. \n  \nREGISTER HERE!
URL:https://thetc.com/event/next-steps-class-luncheon-4/
LOCATION:TC Student Center\, 300 NW 3rd Street\, Seminole\, 79360
CATEGORIES:class
ATTACH;FMTTYPE=image/jpeg:https://thetc.com/wp-content/uploads/2025/07/Next-Steps-Class.jpg
ORGANIZER;CN="Transformation Church":MAILTO:info@thetc.com
END:VEVENT
END:VCALENDAR