BEGIN:VCALENDAR
VERSION:2.0
PRODID:-//Transformation Church Seminole - ECPv6.15.20//NONSGML v1.0//EN
CALSCALE:GREGORIAN
METHOD:PUBLISH
X-ORIGINAL-URL:https://thetc.com
X-WR-CALDESC:Events for Transformation Church Seminole
REFRESH-INTERVAL;VALUE=DURATION:PT1H
X-Robots-Tag:noindex
X-PUBLISHED-TTL:PT1H
BEGIN:VTIMEZONE
TZID:America/Chicago
BEGIN:DAYLIGHT
TZOFFSETFROM:-0600
TZOFFSETTO:-0500
TZNAME:CDT
DTSTART:20240310T080000
END:DAYLIGHT
BEGIN:STANDARD
TZOFFSETFROM:-0500
TZOFFSETTO:-0600
TZNAME:CST
DTSTART:20241103T070000
END:STANDARD
BEGIN:DAYLIGHT
TZOFFSETFROM:-0600
TZOFFSETTO:-0500
TZNAME:CDT
DTSTART:20250309T080000
END:DAYLIGHT
BEGIN:STANDARD
TZOFFSETFROM:-0500
TZOFFSETTO:-0600
TZNAME:CST
DTSTART:20251102T070000
END:STANDARD
BEGIN:DAYLIGHT
TZOFFSETFROM:-0600
TZOFFSETTO:-0500
TZNAME:CDT
DTSTART:20260308T080000
END:DAYLIGHT
BEGIN:STANDARD
TZOFFSETFROM:-0500
TZOFFSETTO:-0600
TZNAME:CST
DTSTART:20261101T070000
END:STANDARD
END:VTIMEZONE
BEGIN:VEVENT
DTSTART;VALUE=DATE:20250425
DTEND;VALUE=DATE:20250427
DTSTAMP:20260423T152819
CREATED:20250325T193815Z
LAST-MODIFIED:20250325T193815Z
UID:10001493-1745539200-1745711999@thetc.com
SUMMARY:Expand: High School Nights
DESCRIPTION:Dates: April 25th – 26th\nThe aim of High School Nights is to build unity amongst the high school students while imparting & equipping them with tools to serve and lead in the season that they’re in. \nRegistration: \nStudent: $20\nDeadline: April 21st \nRegister here \nSchedule:\n*schedule is subject to change* \nFriday\, April 25th\n[Dinner] 6pm\n[Worship] 6:45pm\n[Message] 7:15pm\n[Ministry Time] 7:50pm\n[Breakout Groups] 8:05pm\n[Games/Fellowship] 8:35pm\n[Dismiss] 9:30pm \nSaturday\, April 26th\n[Welcome] 3pm\n[Worship] 3:30pm\n[Message] 3:50pm\n[Ministry Time] 4:25pm\n[Q&A | Panel] 4:40pm\n[Dinner] 5:35pm\n[Worship] 6:30pm\n[Message] 7pm\n[Ministry Time] 7:35\n[Breakout Groups] 8pm\n[Games/Fellowship] 8:35pm\n[Dismiss] 9:30pm \nSunday\, April 28th\n[Breakfast] 9:30am\n[Team Rally] 9:45am\n[Expand in TK] 10am
URL:https://thetc.com/event/expand-high-school-nights/
LOCATION:TC Student Center\, 300 NW 3rd Street\, Seminole\, 79360
ATTACH;FMTTYPE=image/png:https://thetc.com/wp-content/uploads/2025/03/medium_image-1742242401743-png.webp
ORGANIZER;CN="Transformation Church":MAILTO:info@thetc.com
END:VEVENT
END:VCALENDAR