BEGIN:VCALENDAR
VERSION:2.0
PRODID:-//Transformation Church Seminole - ECPv6.15.20//NONSGML v1.0//EN
CALSCALE:GREGORIAN
METHOD:PUBLISH
X-ORIGINAL-URL:https://thetc.com
X-WR-CALDESC:Events for Transformation Church Seminole
REFRESH-INTERVAL;VALUE=DURATION:PT1H
X-Robots-Tag:noindex
X-PUBLISHED-TTL:PT1H
BEGIN:VTIMEZONE
TZID:America/Chicago
BEGIN:DAYLIGHT
TZOFFSETFROM:-0600
TZOFFSETTO:-0500
TZNAME:CDT
DTSTART:20250309T080000
END:DAYLIGHT
BEGIN:STANDARD
TZOFFSETFROM:-0500
TZOFFSETTO:-0600
TZNAME:CST
DTSTART:20251102T070000
END:STANDARD
BEGIN:DAYLIGHT
TZOFFSETFROM:-0600
TZOFFSETTO:-0500
TZNAME:CDT
DTSTART:20260308T080000
END:DAYLIGHT
BEGIN:STANDARD
TZOFFSETFROM:-0500
TZOFFSETTO:-0600
TZNAME:CST
DTSTART:20261101T070000
END:STANDARD
BEGIN:DAYLIGHT
TZOFFSETFROM:-0600
TZOFFSETTO:-0500
TZNAME:CDT
DTSTART:20270314T080000
END:DAYLIGHT
BEGIN:STANDARD
TZOFFSETFROM:-0500
TZOFFSETTO:-0600
TZNAME:CST
DTSTART:20271107T070000
END:STANDARD
END:VTIMEZONE
BEGIN:VEVENT
DTSTART;VALUE=DATE:20261008
DTEND;VALUE=DATE:20261014
DTSTAMP:20260423T191009
CREATED:20260423T210315Z
LAST-MODIFIED:20260423T210315Z
UID:10001692-1791417600-1791935999@thetc.com
SUMMARY:Honduras Mission Trip
DESCRIPTION:DATES: October 8th-13th\, 2026 \nLOCATION: Tegucigalpa\, Honduras \nTOTAL COST: $2\,500 \n(If you’re worried about the funds\, we can help you fundraise) \nAGES: High School Students and above! \nMission Trip Activities: \nKids Camp\, serving in an orphanage\, school\, ministering at church\, doing Evangelism and feeding people\, always leaving the last day for fun and experiencing Valley of Angels (a souvenir town close to the city). \nAs time allows\, opportunities may also be given for sight seeing and shopping. All participants must be in excellent general health. \nMissionaries we are working with:  \nOur host missionaries are Rich and Melissa Caldwell. they have been living and working in Honduras for many years. They have a passion for students to be equipped and walking in what they have been anointed to do. \nThe cost is all inclusive: airfare\, ground transportation\, hotel\, visas\, and food upon arrival in the country. The only extra cost to participants will be food purchased during travel\, items of personal nature such as souvenirs\, beverages\, snack items\, telephone calls etc. \nNeeded by June 1st:\n1. Completed Application\n2. Application Approval from TC\n3. Copy of passport or proof you have applied for one\n4. Deposit ($1000) \nDates of each deposit:\n1. June 1st ($1000)\n2. July 1st ($500)\n3. August 1st ($500)\n4. September 1st ($500) \nEach payment will be made to Transformation Church. Payments can be made by cash\, check or online (thetc.com/give) – please mark Honduras Trip 2026. \nIf you have any questions please contact the TC Office at 432-758-3316. \nText ‘HONDURAS’ to 432-758-3316 to APPLY
URL:https://thetc.com/event/honduras-mission-trip/
LOCATION:Transformation Church\, 124 CR 320\, Seminole\, TX\, 79360\, United States
ATTACH;FMTTYPE=image/png:https://thetc.com/wp-content/uploads/2026/04/hondurastrip.png
ORGANIZER;CN="Transformation Church":MAILTO:info@thetc.com
END:VEVENT
END:VCALENDAR