BEGIN:VCALENDAR
VERSION:2.0
PRODID:-//Transformation Church Seminole - ECPv6.15.20//NONSGML v1.0//EN
CALSCALE:GREGORIAN
METHOD:PUBLISH
X-ORIGINAL-URL:https://thetc.com
X-WR-CALDESC:Events for Transformation Church Seminole
REFRESH-INTERVAL;VALUE=DURATION:PT1H
X-Robots-Tag:noindex
X-PUBLISHED-TTL:PT1H
BEGIN:VTIMEZONE
TZID:America/Chicago
BEGIN:DAYLIGHT
TZOFFSETFROM:-0600
TZOFFSETTO:-0500
TZNAME:CDT
DTSTART:20240310T080000
END:DAYLIGHT
BEGIN:STANDARD
TZOFFSETFROM:-0500
TZOFFSETTO:-0600
TZNAME:CST
DTSTART:20241103T070000
END:STANDARD
BEGIN:DAYLIGHT
TZOFFSETFROM:-0600
TZOFFSETTO:-0500
TZNAME:CDT
DTSTART:20250309T080000
END:DAYLIGHT
BEGIN:STANDARD
TZOFFSETFROM:-0500
TZOFFSETTO:-0600
TZNAME:CST
DTSTART:20251102T070000
END:STANDARD
BEGIN:DAYLIGHT
TZOFFSETFROM:-0600
TZOFFSETTO:-0500
TZNAME:CDT
DTSTART:20260308T080000
END:DAYLIGHT
BEGIN:STANDARD
TZOFFSETFROM:-0500
TZOFFSETTO:-0600
TZNAME:CST
DTSTART:20261101T070000
END:STANDARD
BEGIN:DAYLIGHT
TZOFFSETFROM:-0600
TZOFFSETTO:-0500
TZNAME:CDT
DTSTART:20270314T080000
END:DAYLIGHT
BEGIN:STANDARD
TZOFFSETFROM:-0500
TZOFFSETTO:-0600
TZNAME:CST
DTSTART:20271107T070000
END:STANDARD
END:VTIMEZONE
BEGIN:VEVENT
DTSTART;VALUE=DATE:20260226
DTEND;VALUE=DATE:20260301
DTSTAMP:20260423T172414
CREATED:20250105T151046Z
LAST-MODIFIED:20260110T143009Z
UID:10001071-1772064000-1772323199@thetc.com
SUMMARY:I AM Women's Conference 2026
DESCRIPTION:I AM Conference\nREGISTER HERE \nThursday\, February 26th\n7:00 PM\nFriday\, February 27th\n9:30 AM-12:00 PM + 7:00 PM\nSaturday\, February 28th\n9:30 AM-12:00 PM \nFOR THE FIRST TIME…\nJoin us in SEMINOLE\, TEXAS at Transformation Church for this year’s women’s conference: I AM HOME \n“We have known and believed the love that God has for us. God is love\, and she who abides [makes her home] in love abides in God\, and God in her” (1 John 4:16).‬‬ \nEARLY BIRD COST: $75 per person \n*A non-refundable deposit of $25 is required at registration (must pay balance by day of event)\n*Price increases to $100 after 2/12/26\n*Conference t-shirt available as an add-on now\n*T-shirts and other merchandise will be available at the event \nRecommended Hotel:\nWINGATE BY WYNDHAM | 1103 Hobbs Hwy\, Seminole\, TX \n\nUse our block of rooms! ONLY $79/night!\nDirect link: WINGATE Room Block *block closes 1/26/26 so book soon!\nALL double queen & king rooms are $79/night with up to 4 guests\nBreakfast buffet included!
URL:https://thetc.com/event/i-am-womens-conference-2026/
LOCATION:TX
CATEGORIES:conference,women's ministry
ATTACH;FMTTYPE=image/png:https://thetc.com/wp-content/uploads/2025/01/womens-conference-2026.png
ORGANIZER;CN="Transformation Church":MAILTO:info@thetc.com
END:VEVENT
BEGIN:VEVENT
DTSTART;TZID=America/Chicago:20260122T183000
DTEND;TZID=America/Chicago:20260122T203000
DTSTAMP:20260423T172414
CREATED:20251229T010328Z
LAST-MODIFIED:20251229T010328Z
UID:10001683-1769106600-1769113800@thetc.com
SUMMARY:Thrive Hangout
DESCRIPTION:Join us for our monthly THRIVE HANGOUT! Designed for all women (adults only) to find fellowship and community. \nThis month we are gathering on January 22nd!\n\nYou’re invited to a fun evening of fellowship\, snacks\, and BINGO at Transformation Church TK! \n\nTime: 6:30-8:00 PM\nLocation: Transformation Church — TK Building\n\nPlease bring a snack to share and come enjoy a relaxed night of laughter\, connection\, and friendly bingo fun. Feel free to bring a friend— everyone is welcome! \nWe look forward to spending the evening together! \n\nEach month will be hosted by various members of our Thrive Women’s leadership team\, so expect variety\, but always a fun time centered around the Lord!
URL:https://thetc.com/event/thrive-nights-5/
LOCATION:Transformation Church\, 124 CR 320\, Seminole\, TX\, 79360\, United States
CATEGORIES:women's ministry
ATTACH;FMTTYPE=image/jpeg:https://thetc.com/wp-content/uploads/2025/07/Thrive-Hangout.jpg
ORGANIZER;CN="Transformation Church":MAILTO:info@thetc.com
END:VEVENT
BEGIN:VEVENT
DTSTART;TZID=America/Chicago:20251213T093000
DTEND;TZID=America/Chicago:20251213T120000
DTSTAMP:20260423T172414
CREATED:20250915T204507Z
LAST-MODIFIED:20251101T144324Z
UID:10001664-1765618200-1765627200@thetc.com
SUMMARY:Women's Christmas Brunch
DESCRIPTION:Enjoy beautifully decorated tables! Great food! Fun Fellowship!\nThis annual event\, hosted by the Women’s Ministry of Transformation Church\, is always a favorite. \nAges 6th Grade and older may attend. All attendees will go home with something special! \nMORE INFO + REGISTRATION!
URL:https://thetc.com/event/womens-christmas-brunch/
LOCATION:Transformation Church\, 124 CR 320\, Seminole\, TX\, 79360\, United States
CATEGORIES:women's ministry
ATTACH;FMTTYPE=image/png:https://thetc.com/wp-content/uploads/2025/09/PC-Sign-up.png
ORGANIZER;CN="Transformation Church":MAILTO:info@thetc.com
END:VEVENT
BEGIN:VEVENT
DTSTART;VALUE=DATE:20251118
DTEND;VALUE=DATE:20251119
DTSTAMP:20260423T172414
CREATED:20250713T144442Z
LAST-MODIFIED:20251103T145535Z
UID:10001653-1763424000-1763510399@thetc.com
SUMMARY:Thrive Hangout
DESCRIPTION:Join us for our monthly THRIVE HANGOUT! Designed for all women (adults only) to find fellowship and community. \nThis month we are gathering on November 18th!\n\nMeet us at Sunshine & Sparkles Art Studio! 124 South Main Street from 6:30-8:30pm\nBring your favorite holiday dish to share and a $5-$10 wrapped ornament for a fun game!\n\nWe hope to see you there!\nEach month will be hosted by various members of our Thrive Women’s leadership team\, so expect variety\, but always a fun time centered around the Lord!
URL:https://thetc.com/event/thrive-nights-4/
LOCATION:TX
CATEGORIES:women's ministry
ATTACH;FMTTYPE=image/jpeg:https://thetc.com/wp-content/uploads/2025/07/Thrive-Hangout.jpg
ORGANIZER;CN="Transformation Church":MAILTO:info@thetc.com
END:VEVENT
BEGIN:VEVENT
DTSTART;TZID=America/Chicago:20251024T180000
DTEND;TZID=America/Chicago:20251024T200000
DTSTAMP:20260423T172414
CREATED:20250713T144406Z
LAST-MODIFIED:20250916T210452Z
UID:10001652-1761328800-1761336000@thetc.com
SUMMARY:Thrive Hangout
DESCRIPTION:Join us for our monthly THRIVE HANGOUT! Designed for all women (adults only) to find fellowship and community. \nThis month we are gathering on October 24th!  \n\nWe’re going to decoupage pumpkins!\nMeet us at Sunshine & Sparkles (new studio!) 124 South Main Street from 6:00-8:00pm\nBring a small pumpkin (real or fake)\, some holiday napkins or tissue paper — everything else will be provided!\nYou can also bring a finger food or dessert to share (drinks and paper goods also provided!)\n\nWe hope to see you there! \nEach month will be hosted by various members of our Thrive Women’s leadership team\, so expect variety\, but always a fun time centered around the Lord!
URL:https://thetc.com/event/thrive-nights-3/
LOCATION:TX
CATEGORIES:women's ministry
ATTACH;FMTTYPE=image/jpeg:https://thetc.com/wp-content/uploads/2025/07/Thrive-Hangout.jpg
ORGANIZER;CN="Transformation Church":MAILTO:info@thetc.com
END:VEVENT
BEGIN:VEVENT
DTSTART;VALUE=DATE:20250906
DTEND;VALUE=DATE:20250907
DTSTAMP:20260423T172414
CREATED:20250713T143703Z
LAST-MODIFIED:20250812T161932Z
UID:10001651-1757116800-1757203199@thetc.com
SUMMARY:Thrive Hangout
DESCRIPTION:Join us for our monthly THRIVE HANGOUT! Designed for all women (adults only) to find fellowship and community. \nThis month we are gathering on September 6th!\n \n\nCome enjoy some girl time\, great conversation and warm community at STAR LOUNGE (upstairs)\n9:30am – 11:30am\nEach person will be responsible for purchasing their own drinks/pastries\n\nEach month will be hosted by various members of our Thrive Women’s Ministry team\, so expect variety\, but always a fun time centered around the Lord!
URL:https://thetc.com/event/thrive-nights-2/
LOCATION:TX
CATEGORIES:women's ministry
ATTACH;FMTTYPE=image/png:https://thetc.com/wp-content/uploads/2025/07/Thrive-Hangout.png
ORGANIZER;CN="Transformation Church":MAILTO:info@thetc.com
END:VEVENT
BEGIN:VEVENT
DTSTART;TZID=America/Chicago:20250803T150000
DTEND;TZID=America/Chicago:20250803T180000
DTSTAMP:20260423T172414
CREATED:20250713T143314Z
LAST-MODIFIED:20250807T200407Z
UID:10001650-1754233200-1754244000@thetc.com
SUMMARY:Thrive Hangout
DESCRIPTION:Join us for our monthly THRIVE HANGOUT! Designed for all women (adults only) to find fellowship and community. \nThis month we are gathering at Melanie Wade’s House for a POOL PARTY!\nAddress is: 101 SW 15TH ST\nPlease bring: a snack or drink to share + a pool floaty! \nEach month will be hosted by various members of our Women’s group\, so expect variety\, but always a fun time centered around the Lord!
URL:https://thetc.com/event/thrive-nights/
LOCATION:TX
CATEGORIES:women's ministry
ATTACH;FMTTYPE=image/png:https://thetc.com/wp-content/uploads/2025/07/Thrive-Nights.png
ORGANIZER;CN="Transformation Church":MAILTO:info@thetc.com
END:VEVENT
END:VCALENDAR