BEGIN:VCALENDAR
VERSION:2.0
PRODID:-//Transformation Church Seminole - ECPv6.15.20//NONSGML v1.0//EN
CALSCALE:GREGORIAN
METHOD:PUBLISH
X-WR-CALNAME:Transformation Church Seminole
X-ORIGINAL-URL:https://thetc.com
X-WR-CALDESC:Events for Transformation Church Seminole
REFRESH-INTERVAL;VALUE=DURATION:PT1H
X-Robots-Tag:noindex
X-PUBLISHED-TTL:PT1H
BEGIN:VTIMEZONE
TZID:America/Chicago
BEGIN:DAYLIGHT
TZOFFSETFROM:-0600
TZOFFSETTO:-0500
TZNAME:CDT
DTSTART:20250309T080000
END:DAYLIGHT
BEGIN:STANDARD
TZOFFSETFROM:-0500
TZOFFSETTO:-0600
TZNAME:CST
DTSTART:20251102T070000
END:STANDARD
BEGIN:DAYLIGHT
TZOFFSETFROM:-0600
TZOFFSETTO:-0500
TZNAME:CDT
DTSTART:20260308T080000
END:DAYLIGHT
BEGIN:STANDARD
TZOFFSETFROM:-0500
TZOFFSETTO:-0600
TZNAME:CST
DTSTART:20261101T070000
END:STANDARD
BEGIN:DAYLIGHT
TZOFFSETFROM:-0600
TZOFFSETTO:-0500
TZNAME:CDT
DTSTART:20270314T080000
END:DAYLIGHT
BEGIN:STANDARD
TZOFFSETFROM:-0500
TZOFFSETTO:-0600
TZNAME:CST
DTSTART:20271107T070000
END:STANDARD
END:VTIMEZONE
BEGIN:VEVENT
DTSTART;TZID=America/Chicago:20260424T180000
DTEND;TZID=America/Chicago:20260425T220000
DTSTAMP:20260424T021009
CREATED:20260412T135740Z
LAST-MODIFIED:20260412T135740Z
UID:10001691-1777053600-1777154400@thetc.com
SUMMARY:High School Nights
DESCRIPTION:High School Nights is all about connection\, growth\, and stepping into who God has called you to be. \nStudents will build friendships\, strengthen unity\, and be equipped with tools to lead and serve in their everyday lives. \n📅 April 24th–25th💲 Student Registration: $20⏳ Registration Deadline: April 20th \nInvite a friend and be part of something impactful! \nREGISTER HERE
URL:https://thetc.com/event/high-school-nights/
LOCATION:Transformation Church\, 124 CR 320\, Seminole\, TX\, 79360\, United States
ATTACH;FMTTYPE=image/png:https://thetc.com/wp-content/uploads/2026/04/HSN-Casting-Vision.png
ORGANIZER;CN="Transformation Church":MAILTO:info@thetc.com
END:VEVENT
END:VCALENDAR